BEGIN:VCALENDAR
VERSION:2.0
PRODID:-//Eventin//Event Calendar//EN
CALSCALE:GREGORIAN
METHOD:PUBLISH
BEGIN:VEVENT
UID:538a17a15a5f6cb05dce3b47938f63ec@ucccoffeeacademy.ph
SUMMARY:COFFEE ROAST PROFILING (CEP)
DESCRIPTION:CONTINUED EDUCATIONAL PROGRAM\nCourse Description:\nPractice an
 d application of roasting routine and heat management skills to achieve the
  4 popular coffee roast profile.\n\nObjective:\nTo allow UCC students to co
 ntinue to practice roasting after their Processing Coffee Flavors course. T
 o be able to create and understand roast profiles by implementing various c
 harge temperature\, heat management\, roast development time and station ma
 nagement.\nRequired Pre-requisite:\nProcessing Coffee Flavors and Roasting 
 Workshop with Sensory and Introduction to Cupping
LOCATION:Array
DTSTAMP:20260421T115742Z
DTSTART:20231125T010000Z
DTEND:20260421T080000Z
END:VEVENT
END:VCALENDAR
