BEGIN:VCALENDAR
VERSION:2.0
PRODID:-//Eventin//Event Calendar//EN
CALSCALE:GREGORIAN
METHOD:PUBLISH
BEGIN:VEVENT
UID:2b23507990039da2928640313bc9417f@ucccoffeeacademy.ph
SUMMARY:HIGHER EDUCATION ON INTERPRETIVE BREWING
DESCRIPTION:Course Description:\nLearning the values of brew strength and p
 ercentage of extraction to understand the best parameters and achieve the b
 est brew.\nPre-requisite: Interpretive Artisan Brewing Workshop
LOCATION:Array
DTSTAMP:20260421T101714Z
DTSTART:20230927T010000Z
DTEND:20260421T070000Z
END:VEVENT
END:VCALENDAR
