BEGIN:VCALENDAR
VERSION:2.0
PRODID:-//Eventin//Event Calendar//EN
CALSCALE:GREGORIAN
METHOD:PUBLISH
BEGIN:VEVENT
UID:3291d00ffb45b962d0f12521b283673c@ucccoffeeacademy.ph
SUMMARY:Cafe Start Up Essentials
DESCRIPTION:Course Description:\nKnow about the different factors involved 
 in creating a café concept\, as well as understand the basics of menu dev
 elopment\, costing & pricing\, design & lay-out\, inventory management\, lo
 cal area marketing and financial review. This course is ideal for entrepren
 eurs\, prospective business owners and managers.
LOCATION:Array
DTSTAMP:20260421T124148Z
DTSTART:20230913T010000Z
DTEND:20260421T040000Z
END:VEVENT
END:VCALENDAR
