BEGIN:VCALENDAR
VERSION:2.0
PRODID:-//Eventin//Event Calendar//EN
CALSCALE:GREGORIAN
METHOD:PUBLISH
BEGIN:VEVENT
UID:fbd5dbbef42475250220db1339b3772c@ucccoffeeacademy.ph
SUMMARY:Cafe Start-Up Essentials (April 16)
DESCRIPTION:Course Description:\nKnow about the different factors involved 
 in creating a café concept\, as well as understand the basics of menu dev
 elopment\, costing & pricing\, design & layout\, inventory management\, loc
 al area marketing\, and financial review. This course is ideal for entrepre
 neurs\, prospective business owners\, and managers.
LOCATION:Online
DTSTAMP:20260421T115758Z
DTSTART:20240416T010000Z
DTEND:20260421T040000Z
END:VEVENT
END:VCALENDAR
