BEGIN:VCALENDAR
VERSION:2.0
PRODID:-//Eventin//Event Calendar//EN
CALSCALE:GREGORIAN
METHOD:PUBLISH
BEGIN:VEVENT
UID:52ea0fd295f13397ba79d961affee4c0@ucccoffeeacademy.ph
SUMMARY:LATTE ART WORKSHOP
DESCRIPTION:Course Description: This interactive module will cover everythi
 ng latte-art related — understanding how protein and milk fat come togeth
 er to create beautiful patterns and how milk temperature can affect the pro
 cess of pouring. This program is open to professional baristas and coffee e
 nthusiasts. Workshop includes one-on-one coaching & individual practice ses
 sions.\nRequired Pre-requisite:\nEspresso and Barista Academics Workshop or
  with Experience in Brewing Espresso
LOCATION:Array
DTSTAMP:20260421T120010Z
DTSTART:20240316T010000Z
DTEND:20260421T080000Z
END:VEVENT
END:VCALENDAR
