BEGIN:VCALENDAR
VERSION:2.0
PRODID:-//Eventin//Event Calendar//EN
CALSCALE:GREGORIAN
METHOD:PUBLISH
BEGIN:VEVENT
UID:e7b07d1f8d87fe909e369206d43bb95d@ucccoffeeacademy.ph
SUMMARY:CAFE START UP ESSENTIALS
DESCRIPTION:Course Description:\nKnow about the different factors involved 
 in creating a café concept\, as well as understand the basics of menu dev
 elopment\, costing & pricing\, design & lay-out\, inventory management\, lo
 cal area marketing and financial review. This course is ideal for entrepren
 eurs\, prospective business owners and managers.
LOCATION:Array
DTSTAMP:20260421T154144Z
DTSTART:20240312T010000Z
DTEND:20260421T154144Z
END:VEVENT
END:VCALENDAR
